BEGIN:VCALENDAR
VERSION:2.0
METHOD:PUBLISH
X-WR-CALNAME:Mercociudades |  enero 24 2018- enero 24 2018
PRODID:-//strange bird labs//Drupal iCal API//EN
BEGIN:VEVENT
DTSTAMP;VALUE=DATE-TIME:20260422T110118Z
DTSTART;VALUE=DATE-TIME:20180122T143400Z
DTEND;VALUE=DATE-TIME:20020203
UID:http://portal.mercociudades.net/node/6651
URL;VALUE=URI:http://portal.mercociudades.net/node/6651
SUMMARY:Mercociudades participa del Retiro anual de Ciudades y Gobiernos Locales Unidos
DESCRIPTION:<p>Mercociudades participa del Retiro anual de Ciudades y Gobiernos Locales Unidos en el ejercicio del Secretariado Regional de Am&eacute\;rica Latina\, Barcelona\, Espa&ntilde\;a.&nbsp\;</p>
 <p><a href=\\"http\://www.mercociudades.org/node/6635 \\">M&aacute\;s informaci&oacute\;n</a>&nbsp\;</p>
 
END:VEVENT
END:VCALENDAR
